BEGIN:VCALENDAR
VERSION:2.0
PRODID:-//eventon.com NONSGML v1.0//EN
CALSCALE:GREGORIAN
METHOD:PUBLISH
BEGIN:VEVENT
UID:69e73d03366aa
DTSTAMP:20260421T090155Z
DTSTART:20251013
DTEND:20251014
LOCATION:
SUMMARY:Semaine Bleue
DESCRIPTION:Semaine Bleue\nhttps://ville-lannoy.fr/blog/events/semaine-bleu
 e/
URL:https://ville-lannoy.fr/blog/events/semaine-bleue/
END:VEVENT
END:VCALENDAR