BEGIN:VCALENDAR
VERSION:2.0
PRODID:-//eventon.com NONSGML v1.0//EN
CALSCALE:GREGORIAN
METHOD:PUBLISH
BEGIN:VEVENT
UID:69e5e72a65453
DTSTAMP:20260420T084322Z
DTSTART:20250118T150000Z
DTEND:20250118T225900Z
LOCATION:Salle Henri Hechevin 48 rue de Lille\,  Lannoy 59390\,  france
SUMMARY:Voeux municipaux
DESCRIPTION:\nhttps://ville-lannoy.fr/blog/events/voeux-municipaux-2/
URL:https://ville-lannoy.fr/blog/events/voeux-municipaux-2/
END:VEVENT
END:VCALENDAR