BEGIN:VCALENDAR
VERSION:2.0
PRODID:-//eventon.com NONSGML v1.0//EN
CALSCALE:GREGORIAN
METHOD:PUBLISH
BEGIN:VEVENT
UID:69e72b9855340
DTSTAMP:20260421T074736Z
DTSTART:20241224
DTEND:20241225
LOCATION:
SUMMARY:Fermeture Médiathèque du mardi 24 au 31 décembre inclus
DESCRIPTION:Fermeture Médiathèque du mardi 24 au 31 décembre inclus\nhtt
 ps://ville-lannoy.fr/blog/events/fermeture-mediatheque-du-mardi-24-au-31-de
 cembre-inclus/
URL:https://ville-lannoy.fr/blog/events/fermeture-mediatheque-du-mardi-24-au-31-decembre-inclus/
END:VEVENT
END:VCALENDAR