BEGIN:VCALENDAR
VERSION:2.0
PRODID:-//eventon.com NONSGML v1.0//EN
CALSCALE:GREGORIAN
METHOD:PUBLISH
BEGIN:VEVENT
UID:69e62e17d7cb7
DTSTAMP:20260420T134559Z
DTSTART:20231027T170000Z
DTEND:20231027T200000Z
LOCATION:
SUMMARY:Halloween
DESCRIPTION:Visite réservée aux plus téméraires le vendredi 27 octobre 
 de 19h à 22h Le parc de la mairie sera hanté pour une soirée. Monstres\,
   personnages affreux\,  se sont emparés des lieux&#8230; Frayeurs assuré
 es ! Distribution de friandises en fin de visite pour réconforter un peu l
 es enfants et les plus[..]\nhttps://ville-lannoy.fr/blog/events/halloween-3
 /
URL:https://ville-lannoy.fr/blog/events/halloween-3/
END:VEVENT
END:VCALENDAR