BEGIN:VCALENDAR
VERSION:2.0
PRODID:-//eventon.com NONSGML v1.0//EN
CALSCALE:GREGORIAN
METHOD:PUBLISH
BEGIN:VEVENT
UID:69e732560df38
DTSTAMP:20260421T081622Z
DTSTART:20231019T180000Z
DTEND:20231019T203000Z
LOCATION:Salle Henri Hechevin 48 rue de Lille\,  Lannoy 59390\,  france
SUMMARY:Les belles sorties : Simon la gadouille
DESCRIPTION:En partenariat avec la MEL\,  le Conseil Régional des Hauts de
  France et le Colisée de Roubaix\,  la ville de Lannoy vous propose dans l
 e cadre des Belles sorties\,  la pièce de théâtre « Simon la Gadouille 
 » par la Cie Théâtre du Prisme\,  le Jeudi 19 octobre 2023 à[..]\nhttps
 ://ville-lannoy.fr/blog/events/les-belles-sorties-simon-la-gadouille/
URL:https://ville-lannoy.fr/blog/events/les-belles-sorties-simon-la-gadouille/
END:VEVENT
END:VCALENDAR