BEGIN:VCALENDAR
VERSION:2.0
PRODID:-//eventon.com NONSGML v1.0//EN
CALSCALE:GREGORIAN
METHOD:PUBLISH
BEGIN:VEVENT
UID:69ecb1aa9f556
DTSTAMP:20260425T122058Z
DTSTART:20230222
DTEND:20230223
LOCATION:
SUMMARY:Campagne de dératisation
DESCRIPTION:Campagne de dératisation\nhttps://ville-lannoy.fr/blog/events/
 campagne-de-deratisation/
URL:https://ville-lannoy.fr/blog/events/campagne-de-deratisation/
END:VEVENT
END:VCALENDAR